BEGIN:VCALENDAR
VERSION:2.0
PRODID:-//FFMC78 - ECPv6.0.9//NONSGML v1.0//EN
CALSCALE:GREGORIAN
METHOD:PUBLISH
X-WR-CALNAME:FFMC78
X-ORIGINAL-URL:https://www.ffmc78.org
X-WR-CALDESC:évènements pour FFMC78
REFRESH-INTERVAL;VALUE=DURATION:PT1H
X-Robots-Tag:noindex
X-PUBLISHED-TTL:PT1H
BEGIN:VTIMEZONE
TZID:Europe/Paris
BEGIN:DAYLIGHT
TZOFFSETFROM:+0100
TZOFFSETTO:+0200
TZNAME:CEST
DTSTART:20260329T010000
END:DAYLIGHT
BEGIN:STANDARD
TZOFFSETFROM:+0200
TZOFFSETTO:+0100
TZNAME:CET
DTSTART:20261025T010000
END:STANDARD
END:VTIMEZONE
BEGIN:VEVENT
DTSTART;TZID=Europe/Paris:20260425T140000
DTEND;TZID=Europe/Paris:20260425T160000
DTSTAMP:20260425T010050
CREATED:20260418T143358Z
LAST-MODIFIED:20260418T143358Z
UID:5969-1777125600-1777132800@www.ffmc78.org
SUMMARY:Réunion plénière à Bouafle
DESCRIPTION:La réunion plénière se tiendra le samedi 25 avril à 14h à Bouafle\, dans les locaux de l’auto-moto école Le Trèfle\, adhérent à la FFMC78. \nRéunion ouverte à tous. \n 
URL:https://www.ffmc78.org/event/reunion-pleniere-a-bouafle/
LOCATION:Auto-Ecole Le Trèfle\, 310 rue de Flins\, BOUAFLE\, 78410\, France
CATEGORIES:Réunions & Permanences
ATTACH;FMTTYPE=image/jpeg:https://www.ffmc78.org/wp-content/uploads/2021/07/Auto-ecole-le-trefle.jpg
ORGANIZER;CN="LEPELLETIER%20Luc":MAILTO:ducat.749@hotmail.fr
END:VEVENT
END:VCALENDAR